BEGIN:VCALENDAR
VERSION:2.0
PRODID:-//Regulatory Compliance &amp; Enforcement Council - ECPv6.15.12.2//NONSGML v1.0//EN
CALSCALE:GREGORIAN
METHOD:PUBLISH
X-ORIGINAL-URL:https://www.rc-ec.ca
X-WR-CALDESC:Events for Regulatory Compliance &amp; Enforcement Council
REFRESH-INTERVAL;VALUE=DURATION:PT1H
X-Robots-Tag:noindex
X-PUBLISHED-TTL:PT1H
BEGIN:VTIMEZONE
TZID:UTC
BEGIN:STANDARD
TZOFFSETFROM:+0000
TZOFFSETTO:+0000
TZNAME:UTC
DTSTART:20250101T000000
END:STANDARD
END:VTIMEZONE
BEGIN:VEVENT
DTSTART;TZID=UTC:20260302T090000
DTEND;TZID=UTC:20260302T160000
DTSTAMP:20260421T085557
CREATED:20260106T150118Z
LAST-MODIFIED:20260227T162750Z
UID:788-1772442000-1772467200@www.rc-ec.ca
SUMMARY:Investigating with Open Source Intelligence
DESCRIPTION:This program will cover off OSINT in regulatory environment including tools and practical exercises while integrating best practices. \n\n\n\nThis course provides a practical approach to using open-source tools and techniques to collect and analyze information in real-time. Whether you’re engaged in compliance\, regulatory investigations\, or enforcement activities\, this training will elevate your investigative effectiveness. \n\n\n\nThe course includes: \n\n\n\n• Hands-On Practice: Engage in real-time exercises led by experienced trainers \n\n\n\n• Collaborative Learning: Connect with peers\, share experiences\, and expand your network \n\n\n\n• Immediate Application: Gain practical knowledge that you can use in your investigations right away
URL:https://www.rc-ec.ca/event/investigating-with-open-source-intelligence-2/
ORGANIZER;CN="RCEC":MAILTO:contact@rc-ec.ca
END:VEVENT
BEGIN:VEVENT
DTSTART;TZID=UTC:20260303T090000
DTEND;TZID=UTC:20260303T160000
DTSTAMP:20260421T085557
CREATED:20251105T033029Z
LAST-MODIFIED:20260108T185556Z
UID:748-1772528400-1772553600@www.rc-ec.ca
SUMMARY:Regulatory Interviewing
DESCRIPTION:Learn and practice skills and strategies for successful interviewing in a regulatory and enforcement environment. \n\n\n\nAll Regulatory personnel need to speak with people to be successful in their role. This one day course has been developed for staff in any regulatory role\, whether or not it is an administrative or a field based assignment. Participants will be able to develop their skill sets in conducting an interviews\, and understanding the responsibilities\, categories\, and strategies needed to become a successful interviewer. \n\n\n\nThe students will also be able to reflect on various interviewing strategies and how to shift between them. \n\n\n\nThe main objectives include: Discuss the Interviewers mindset; Controlling the Interview; Interviewing responsibly; Categories of interview subjects; Communication Strategies; Virtual Interviewing; Signs of possible deception; Practical exercises \n\n\n\nThis session is being offered virtually.
URL:https://www.rc-ec.ca/event/regulatory-interviewing-3/
ORGANIZER;CN="RCEC":MAILTO:contact@rc-ec.ca
END:VEVENT
END:VCALENDAR