BEGIN:VCALENDAR
VERSION:2.0
PRODID:-//Regulatory Compliance &amp; Enforcement Council - ECPv6.15.12.2//NONSGML v1.0//EN
CALSCALE:GREGORIAN
METHOD:PUBLISH
X-WR-CALNAME:Regulatory Compliance &amp; Enforcement Council
X-ORIGINAL-URL:https://www.rc-ec.ca
X-WR-CALDESC:Events for Regulatory Compliance &amp; Enforcement Council
REFRESH-INTERVAL;VALUE=DURATION:PT1H
X-Robots-Tag:noindex
X-PUBLISHED-TTL:PT1H
BEGIN:VTIMEZONE
TZID:UTC
BEGIN:STANDARD
TZOFFSETFROM:+0000
TZOFFSETTO:+0000
TZNAME:UTC
DTSTART:20240101T000000
END:STANDARD
END:VTIMEZONE
BEGIN:VTIMEZONE
TZID:America/Toronto
BEGIN:DAYLIGHT
TZOFFSETFROM:-0500
TZOFFSETTO:-0400
TZNAME:EDT
DTSTART:20240310T070000
END:DAYLIGHT
BEGIN:STANDARD
TZOFFSETFROM:-0400
TZOFFSETTO:-0500
TZNAME:EST
DTSTART:20241103T060000
END:STANDARD
BEGIN:DAYLIGHT
TZOFFSETFROM:-0500
TZOFFSETTO:-0400
TZNAME:EDT
DTSTART:20250309T070000
END:DAYLIGHT
BEGIN:STANDARD
TZOFFSETFROM:-0400
TZOFFSETTO:-0500
TZNAME:EST
DTSTART:20251102T060000
END:STANDARD
BEGIN:DAYLIGHT
TZOFFSETFROM:-0500
TZOFFSETTO:-0400
TZNAME:EDT
DTSTART:20260308T070000
END:DAYLIGHT
BEGIN:STANDARD
TZOFFSETFROM:-0400
TZOFFSETTO:-0500
TZNAME:EST
DTSTART:20261101T060000
END:STANDARD
END:VTIMEZONE
BEGIN:VEVENT
DTSTART;TZID=UTC:20251110T090000
DTEND;TZID=UTC:20251110T160000
DTSTAMP:20260421T135735
CREATED:20250612T184550Z
LAST-MODIFIED:20251105T210200Z
UID:503-1762765200-1762790400@www.rc-ec.ca
SUMMARY:Investigating with Open Source Intelligence
DESCRIPTION:This program will cover off OSINT in regulatory environment including tools and practical exercises while integrating best practices. \n\n\n\nThis course provides a practical approach to using open-source tools and techniques to collect and analyze information in real-time. Whether you’re engaged in compliance\, regulatory investigations\, or enforcement activities\, this training will elevate your investigative effectiveness. \n\n\n\nThe course includes: \n\n\n\n• Hands-On Practice: Engage in real-time exercises led by experienced trainers \n\n\n\n• Collaborative Learning: Connect with peers\, share experiences\, and expand your network \n\n\n\n• Immediate Application: Gain practical knowledge that you can use in your investigations right away
URL:https://www.rc-ec.ca/event/investigating-with-open-source-intelligence/
ORGANIZER;CN="RCEC":MAILTO:contact@rc-ec.ca
END:VEVENT
BEGIN:VEVENT
DTSTART;TZID=America/Toronto:20251119T080000
DTEND;TZID=America/Toronto:20251119T170000
DTSTAMP:20260421T135735
CREATED:20250915T153959Z
LAST-MODIFIED:20251009T165151Z
UID:566-1763539200-1763571600@www.rc-ec.ca
SUMMARY:RCEC Annual Forum 2025
DESCRIPTION:2025 RCEC Annual Forum \n\n\n\nWelcome to the RCEC Annual Forum! Join us for a day filled with insightful discussions\, networking opportunities\, and engaging presentations. This in-person event will be held at the Woodbine Racetrack in Toronto\, providing a unique backdrop for our forum. For those that may not be able to attend due to limits on travel\, the event will also be offered virtually while still offering networking opportunities. \n\n\n\nFor those attending\, refreshments\, snacks and a buffet lunch is included in your ticket price. \n\n\n\n \n\n\n\n \n\n\n\nOur Planned agenda includes; \n\n\n\nInter-provincial Job MobilityAs premiers work towards eliminating inter-provincial barriers job-mobility discussions arewell underway. What will your regulated field or industry look like? How are out of provincediscipline matters addressed? How are qualifications vetted? What could possibly gowrong? \n\n\n\nAlternative Dispute Resolutions / Informal dispute resolutionTom Girling – certified mediator \n\n\n\nDefence Approaches to Regulatory ProsecutionsPerspectives from the other side of the fence. How regulatory cases can go south. \n\n\n\nKeynote – Chatham House rules in effectHow has your agency changed in light of Canada / U.S. relations in 2025?Lunchtime – Annual General Meeting 12:00 – 12:30 pm \n\n\n\nTBAFederal perspective on what they’re seeing on the ground. Speak to lessons learned (ie.Inter-Border cooperation ). \n\n\n\nBC – Real Estate AssociationA Western Canadian perspective to regulatory challenges\, ie. intersection betweenregulatory violations\, criminality & organized crime. \n\n\n\nRegulating Effectively Involving Extremist IdeologiesHow to deal with extremists while executing your role\, ie. Sovereign citizens\, freeman of theland\, anti-vax\, anti-establishment / government \n\n\n\n \n\n\n\n \n\n\n\n\n\n\n \n\n\n\n\n\n\n\n\n\n\n\n\n\n\n\n\n\n\n\n\n\n\n\n\n\n\nYour in-person ticket also includes snacks\, coffee and tea\, and a buffet lunch
URL:https://www.rc-ec.ca/event/rcec-annual-forum-2025-2/
LOCATION:Woodbine Raceway\, 555 Rexdale Blvd\, Toronto\, ON
END:VEVENT
END:VCALENDAR