BEGIN:VCALENDAR
VERSION:2.0
PRODID:-//Regulatory Compliance &amp; Enforcement Council - ECPv6.15.12.2//NONSGML v1.0//EN
CALSCALE:GREGORIAN
METHOD:PUBLISH
X-ORIGINAL-URL:https://www.rc-ec.ca
X-WR-CALDESC:Events for Regulatory Compliance &amp; Enforcement Council
REFRESH-INTERVAL;VALUE=DURATION:PT1H
X-Robots-Tag:noindex
X-PUBLISHED-TTL:PT1H
BEGIN:VTIMEZONE
TZID:UTC
BEGIN:STANDARD
TZOFFSETFROM:+0000
TZOFFSETTO:+0000
TZNAME:UTC
DTSTART:20240101T000000
END:STANDARD
END:VTIMEZONE
BEGIN:VEVENT
DTSTART;TZID=UTC:20250908T083000
DTEND;TZID=UTC:20250908T160000
DTSTAMP:20260421T165014
CREATED:20250603T154542Z
LAST-MODIFIED:20250612T175900Z
UID:484-1757320200-1757347200@www.rc-ec.ca
SUMMARY:Regulatory Compliance Fundamentals
DESCRIPTION:Regulatory Compliance Fundamentals is a 40-hour (5 days conducted once per week to ease workplace impacts) training program specifically designed for newer regulatory and enforcement personnel or those looking for a refresher. The training syllabus includes Intro to Law; Evidence; Interviewing; Search Warrants; POA (Ontario only classes); Investigations\, Notetaking; Testimony \n\n\n\nTraining dates for this offering will be held on consecutive Mondays: Sep 8\, 15\, 22\, 29\, Oct 6
URL:https://www.rc-ec.ca/event/regulatory-compliance-fundamentals-3/
ORGANIZER;CN="Regulatory Compliance & Enforcement Council":MAILTO:contact@rc-ec.ca
END:VEVENT
END:VCALENDAR