BEGIN:VCALENDAR
VERSION:2.0
PRODID:-//Regulatory Compliance &amp; Enforcement Council - ECPv6.15.12.2//NONSGML v1.0//EN
CALSCALE:GREGORIAN
METHOD:PUBLISH
X-WR-CALNAME:Regulatory Compliance &amp; Enforcement Council
X-ORIGINAL-URL:https://www.rc-ec.ca
X-WR-CALDESC:Events for Regulatory Compliance &amp; Enforcement Council
REFRESH-INTERVAL;VALUE=DURATION:PT1H
X-Robots-Tag:noindex
X-PUBLISHED-TTL:PT1H
BEGIN:VTIMEZONE
TZID:UTC
BEGIN:STANDARD
TZOFFSETFROM:+0000
TZOFFSETTO:+0000
TZNAME:UTC
DTSTART:20250101T000000
END:STANDARD
END:VTIMEZONE
BEGIN:VEVENT
DTSTART;TZID=UTC:20261019T090000
DTEND;TZID=UTC:20261020T160000
DTSTAMP:20260420T174235
CREATED:20260129T155726Z
LAST-MODIFIED:20260129T155727Z
UID:831-1792400400-1792512000@www.rc-ec.ca
SUMMARY:Regulatory Search Warrant Training
DESCRIPTION:This program will help navigate the ever increasing judicial scrutiny around Charter protections pertaining to searches. \n\n\n\nIn this program learners will be taken beyond the basic elements of search warrant preparation and execution. Structured as an intermediate course\, the program will explore the following topics: \n\n\n\n• Best practices for obtaining and planning search warrants. \n\n\n\n• Current rules pertaining to obtaining and planning search warrants\, including understanding Reasonable Expectations of Privacy. \n\n\n\n• Focus on structure in preparing an effective and complete Information to Obtain (ITO). \n\n\n\nThis is a two-day course. Students will be required to complete independent work following the two day instructional sessions. \n\n\n\nIn order to successfully complete this course\, each learner must demonstrate their knowledge by creating an ITO which will determine their final mark. \n\n\n\nThis program will be delivered virtually\, in English.
URL:https://www.rc-ec.ca/event/regulatory-search-warrant-training-3/
ORGANIZER;CN="RCEC":MAILTO:contact@rc-ec.ca
END:VEVENT
BEGIN:VEVENT
DTSTART;TZID=UTC:20261020T090000
DTEND;TZID=UTC:20261020T160000
DTSTAMP:20260420T174235
CREATED:20251105T032630Z
LAST-MODIFIED:20251105T032632Z
UID:743-1792486800-1792512000@www.rc-ec.ca
SUMMARY:Crossing the Rubicon
DESCRIPTION:Everything you will need to know about Crossing the Rubicon\, and how to deal with the legal requirements that come from it. \n\n\n\nThis technical program identifies regulatory actions\, quasi-criminal actions\, and the point when a regulatory action (inspection) turns into an investigation. The program will help navigate the complicated landscape of the Regulatory world where issues may turn into court matters. There will be discussions on relevant case law and where we stand today.
URL:https://www.rc-ec.ca/event/crossing-the-rubicon-6/
ORGANIZER;CN="RCEC":MAILTO:contact@rc-ec.ca
END:VEVENT
END:VCALENDAR