BEGIN:VCALENDAR
VERSION:2.0
PRODID:-//Regulatory Compliance &amp; Enforcement Council - ECPv6.15.12.2//NONSGML v1.0//EN
CALSCALE:GREGORIAN
METHOD:PUBLISH
X-ORIGINAL-URL:https://www.rc-ec.ca
X-WR-CALDESC:Events for Regulatory Compliance &amp; Enforcement Council
REFRESH-INTERVAL;VALUE=DURATION:PT1H
X-Robots-Tag:noindex
X-PUBLISHED-TTL:PT1H
BEGIN:VTIMEZONE
TZID:UTC
BEGIN:STANDARD
TZOFFSETFROM:+0000
TZOFFSETTO:+0000
TZNAME:UTC
DTSTART:20250101T000000
END:STANDARD
END:VTIMEZONE
BEGIN:VEVENT
DTSTART;TZID=UTC:20261005T090000
DTEND;TZID=UTC:20261005T160000
DTSTAMP:20260420T174943
CREATED:20260129T160810Z
LAST-MODIFIED:20260223T191528Z
UID:833-1791190800-1791216000@www.rc-ec.ca
SUMMARY:Investigating with Open Source Intelligence
DESCRIPTION:This program will cover off OSINT in regulatory environment including tools and practical exercises while integrating best practices. \n\n\n\nThis course provides a practical approach to using open-source tools and techniques to collect and analyze information in real-time. Whether you’re engaged in compliance\, regulatory investigations\, or enforcement activities\, this training will elevate your investigative effectiveness. \n\n\n\nThe course includes: \n\n\n\n• Hands-On Practice: Engage in real-time exercises led by experienced trainers \n\n\n\n• Collaborative Learning: Connect with peers\, share experiences\, and expand your network \n\n\n\n• Immediate Application: Gain practical knowledge that you can use in your investigations right away
URL:https://www.rc-ec.ca/event/investigating-with-open-source-intelligence-3/
ORGANIZER;CN="RCEC":MAILTO:contact@rc-ec.ca
END:VEVENT
END:VCALENDAR