BEGIN:VCALENDAR
VERSION:2.0
PRODID:-//Regulatory Compliance &amp; Enforcement Council - ECPv6.15.12.2//NONSGML v1.0//EN
CALSCALE:GREGORIAN
METHOD:PUBLISH
X-WR-CALNAME:Regulatory Compliance &amp; Enforcement Council
X-ORIGINAL-URL:https://www.rc-ec.ca
X-WR-CALDESC:Events for Regulatory Compliance &amp; Enforcement Council
REFRESH-INTERVAL;VALUE=DURATION:PT1H
X-Robots-Tag:noindex
X-PUBLISHED-TTL:PT1H
BEGIN:VTIMEZONE
TZID:UTC
BEGIN:STANDARD
TZOFFSETFROM:+0000
TZOFFSETTO:+0000
TZNAME:UTC
DTSTART:20250101T000000
END:STANDARD
END:VTIMEZONE
BEGIN:VEVENT
DTSTART;TZID=UTC:20260505T090000
DTEND;TZID=UTC:20260505T160000
DTSTAMP:20260420T110503
CREATED:20251105T032333Z
LAST-MODIFIED:20251105T032335Z
UID:738-1777971600-1777996800@www.rc-ec.ca
SUMMARY:Crossing the Rubicon
DESCRIPTION:Everything you will need to know about Crossing the Rubicon\, and how to deal with the legal requirements that come from it. \n\n\n\nThis technical program identifies regulatory actions\, quasi-criminal actions\, and the point when a regulatory action (inspection) turns into an investigation. The program will help navigate the complicated landscape of the Regulatory world where issues may turn into court matters. There will be discussions on relevant case law and where we stand today.
URL:https://www.rc-ec.ca/event/crossing-the-rubicon-5/
ORGANIZER;CN="RCEC":MAILTO:contact@rc-ec.ca
END:VEVENT
END:VCALENDAR